BEGIN:VCALENDAR
VERSION:2.0
PRODID:-//ChamberMaster//Event Calendar 2.0//EN
METHOD:PUBLISH
X-PUBLISHED-TTL:P3D
REFRESH-INTERVAL:P3D
CALSCALE:GREGORIAN
BEGIN:VEVENT
DTSTART:20150918T000000Z
DTEND:20150918T013000Z
X-MICROSOFT-CDO-ALLDAYEVENT:FALSE
SUMMARY:GAC - BHUSD School Board Candidate Forum
DESCRIPTION:This month\, the Chamber's Government Affairs Committee (GAC) will host a forum for the five candidates running to serve on the BHUSD's Board of Education.\n\n\n\nAll five candidates - Lewis Hall (incumbent)\, Noah Margo (incumbent)\, Carter Paysinger\, Mel Spitz\, Isabel Hacker - will be in attendance. The forum will be moderated by the Chair of the GAC\, Mark Egerman\, himself a former school board member and mayor.\n\n\n\nWe are expecting a large crowd and encourage attendees to arrive early to ensure seating. \n\n\n\nThe event is open to the public and will be held at the Chamber Boardroom\, 9400 S. Santa Monica Blvd. 2nd Floor\,
X-ALT-DESC;FMTTYPE=text/html:This month\, the Chamber&#39\;s Government Affairs Committee (GAC) will host a forum for the five candidates running to serve on the&nbsp\;BHUSD&#39\;s Board of Education.<br />\n<br />\nAll five candidates - Lewis Hall (incumbent)\, Noah Margo<span style="line-height: 20.8px\;">&nbsp\;(incumbent)\,&nbsp\;</span>Carter Paysinger\, Mel Spitz\, Isabel Hacker - will be&nbsp\;in attendance. The forum will be moderated by the Chair of the GAC\, Mark Egerman\, himself a&nbsp\;former school board member and mayor.<br />\n<br />\nWe are expecting a large crowd and encourage attendees to arrive early to ensure seating.&nbsp\;<br />\n<br />\nThe event is open to the public and will be held at the Chamber Boardroom\, 9400 S. Santa Monica Blvd. 2nd Floor\,&nbsp\;
LOCATION:Chamber Boardroom\, 9400 S. Santa Monica Blvd. (@Canon)\, 2nd Floor Two hours of free parking is provided in the Beverly-Canon City parking lot in between Beverly and Canon (in between S. Santa Monica and Brighton Way north-to-south). You may enter off of either Beverly or Canon.
UID:e.1702.3810
SEQUENCE:3
DTSTAMP:20260422T183328Z
URL:http://members.beverlyhillschamber.com/events/details/gac-bhusd-school-board-candidate-forum-09-17-2015-3810
END:VEVENT

END:VCALENDAR
