BEGIN:VCALENDAR
VERSION:2.0
PRODID:-//ChamberMaster//Event Calendar 2.0//EN
METHOD:PUBLISH
X-PUBLISHED-TTL:P3D
REFRESH-INTERVAL:P3D
CALSCALE:GREGORIAN
BEGIN:VEVENT
DTSTART:20150618T150000Z
DTEND:20150618T160000Z
X-MICROSOFT-CDO-ALLDAYEVENT:FALSE
SUMMARY:GAC - City Ambassador Program\, Tour Bus Update & Budget
DESCRIPTION:This month\, the GAC will hear from the following speakers:\n\n	James Latta\, Human Services Administrator from the City of Beverly Hills\, will speak about a pilot Ambassador program approved this week by the City Council. The program was passed in response to increased complaints from residents and businesses about aggressive panhandling impacting the quality of life in the Business Triangle. For more information\, you may click here to read the City staff report.\n	Aaron Kunz\, Deputy Director of Transportation\, City of Beverly Hills\, will provide an update on the City's efforts to regulate tour bus activity.\n	Don Harrison\, Budget & Revenue Officer from the City of Beverly Hills\, will give a presentation about the recently approved budget. To read a staff report on this item\, please click here.
X-ALT-DESC;FMTTYPE=text/html:This month\, the GAC will hear from the following speakers:\n<ul>\n	<li><strong>James Latta</strong>\,&nbsp\;Human Services Administrator from the&nbsp\;City of Beverly Hills\, will speak about a pilot Ambassador program&nbsp\;approved this week by the City Council. The program was passed in response to increased complaints from residents and businesses about aggressive panhandling impacting the quality of life in the&nbsp\;Business Triangle.&nbsp\;For more information\,&nbsp\;<a href="http://beverlyhills.granicus.com/MetaViewer.php?view_id=2&amp\;clip_id=4433&amp\;meta_id=263558">you may click here</a> to read the City staff report.</li>\n	<li><strong>Aaron </strong><strong>Kunz</strong>\,&nbsp\;Deputy Director of Transportation\, City of Beverly Hills\, will provide an update on the City&#39\;s efforts to regulate tour bus activity.</li>\n	<li><strong>Don Harrison</strong>\,&nbsp\;Budget &amp\; Revenue Officer from the&nbsp\;City of Beverly Hills\, will give a presentation about the recently approved budget. To read a staff report on this item\, <a href="http://beverlyhills.granicus.com/MetaViewer.php?view_id=2&amp\;clip_id=4434&amp\;meta_id=263632">please click here.</a></li>\n</ul>\n
LOCATION:Chamber Boardroom\, 9400 S. Santa Monica Blvd. (@Canon)\, 2nd Floor Two hours of free parking is provided in the Beverly-Canon City parking lot in between Beverly and Canon (in between S. Santa Monica and Brighton Way north-to-south). You may enter off of either Beverly or Canon.
UID:e.1702.3807
SEQUENCE:3
DTSTAMP:20260421T103959Z
URL:http://members.beverlyhillschamber.com/events/details/gac-city-ambassador-program-tour-bus-update-budget-06-18-2015-3807
END:VEVENT

END:VCALENDAR
