BEGIN:VCALENDAR
VERSION:2.0
PRODID:-//ChamberMaster//Event Calendar 2.0//EN
METHOD:PUBLISH
X-PUBLISHED-TTL:P3D
REFRESH-INTERVAL:P3D
CALSCALE:GREGORIAN
BEGIN:VEVENT
DTSTART:20260509T210000Z
DTEND:20260509T230000Z
X-MICROSOFT-CDO-ALLDAYEVENT:FALSE
SUMMARY:A Mother's Day Afternoon Tea Party
DESCRIPTION:Join us for an intimate and elegant Mother's Day Floral Afternoon Tea Party   a thoughtfully designed gathering for you and your mom to celebrate a meaningful and joyous connection through creativity.\n\n\n\nYour Ticket Includes:\n\n\n	A curated afternoon tea service\n	A variety of delicate finger sandwiches & tasty pastries\n	A selection seasonal beverages\n	A guided hands-on floral workshop\n	A take-home mini holiday floral arrangement\n	A cozy\, boutique holiday atmosphere\n\n\n\nLimited boutique seating. Reserve your experience today and treat yourself to a meaningful and fun afternoon.\n\nThis boutique experience features a curated afternoon tea service complete with delicate finger sandwiches\, scrumptious sweets\, and seasonal beverages. Relax and enjoy the cozy ambiance as you savor each bite and sip.\n\nThe highlight of the event is a guided floral arrangement workshop\, where you'll design your own floral vase arrangement using fresh seasonal blooms. Your completed creation is yours to take home   a charming\, handcrafted piece to brighten your table.\n\nWhether you're attending with friends\, hosting a personal celebration\, or simply treating yourself to a creative escape\, this afternoon offers the perfect blend of refinement\, relaxation\, and whimsical joy.\n\n\n\nUse discount code BHChamber2026 for 10% off
X-ALT-DESC;FMTTYPE=text/html:<p><!-- x-tinymce/html --><big><span style="font-size:14px">Join us for an intimate and elegant&nbsp\;<strong>Mother&#39\;s Day</strong><strong>&nbsp\;Floral Afternoon Tea Party</strong> &mdash\; a thoughtfully designed gathering for you and your mom to celebrate a meaningful and joyous connection through creativity.</span></big><br />\n<!-- x-tinymce/html --></p>\n\n<p><big><span style="font-size:14px">Your Ticket Includes:</span></big></p>\n\n<ul>\n	<li><big><span style="font-size:14px">A curated afternoon tea service</span></big></li>\n	<li><big><span style="font-size:14px">A variety of delicate finger sandwiches &amp\; tasty pastries</span></big></li>\n	<li><big><span style="font-size:14px">A selection seasonal beverages</span></big></li>\n	<li><big><span style="font-size:14px">A guided hands-on floral workshop</span></big></li>\n	<li><big><span style="font-size:14px">A take-home mini holiday floral arrangement</span></big></li>\n	<li><big><span style="font-size:14px">A cozy\, boutique holiday atmosphere</span></big></li>\n</ul>\n<big><!-- x-tinymce/html --></big>\n\n<p><big><big><span style="font-size:14px">Limited boutique seating. Reserve your experience today and treat yourself to a meaningful and fun afternoon.</span></big></big></p>\n\n<p><big><big><span style="font-size:14px">This boutique experience features a curated afternoon tea service complete with delicate finger sandwiches\, scrumptious sweets\, and seasonal beverages. Relax and enjoy the cozy ambiance as you savor each bite and sip.</span></big></big></p>\n\n<p><big><big><span style="font-size:14px">The highlight of the event is a <strong>guided floral arrangement workshop</strong>\, where you&rsquo\;ll design your own floral vase arrangement using fresh seasonal blooms. Your completed creation is yours to take home &mdash\; a charming\, handcrafted piece to brighten your table.</span></big></big></p>\n\n<p><big><big><span style="font-size:14px">Whether you&rsquo\;re attending with friends\, hosting a personal celebration\, or simply treating yourself to a creative escape\, this afternoon offers the perfect blend of refinement\, relaxation\, and whimsical joy.</span><br />\n<br />\n<span style="font-size:16px">Use discount code&nbsp\;<strong>BHChamber2026</strong></span><span style="font-size:14px"><span style="font-size:16px">&nbsp\;for 10% off</span></span></big></big></p>\n
LOCATION:Bloom Boom 620 N La Cienega Blvd. West Hollywood\, CA 90069
UID:e.1702.30153
SEQUENCE:3
DTSTAMP:20260420T120459Z
URL:https://members.beverlyhillschamber.com/events/details/a-mother-s-day-afternoon-tea-party-30153
END:VEVENT

END:VCALENDAR
