BEGIN:VCALENDAR
VERSION:2.0
PRODID:-//ChamberMaster//Event Calendar 2.0//EN
METHOD:PUBLISH
X-PUBLISHED-TTL:P3D
REFRESH-INTERVAL:P3D
CALSCALE:GREGORIAN
BEGIN:VEVENT
DTSTART:20260508T120000Z
DTEND:20260510T050000Z
X-MICROSOFT-CDO-ALLDAYEVENT:FALSE
SUMMARY:A Two-Night Culinary Collaboration: Rosewood Mayakoba at Marea Beverly Hills
DESCRIPTION:For two nights only\, Marea Beverly Hills welcomes the acclaimed Rosewood Mayakoba for a special collaboration\, bringing the spirit of Mexico's Riviera Maya to Los Angeles. Join us for this limited engagement and experience the intersection of two world-class hospitality destinations.\n\nFriday\, May 8 | Saturday\, May 9\n\nReservations
X-ALT-DESC;FMTTYPE=text/html:<p style="text-align:center">For two nights only\, Marea Beverly Hills welcomes the acclaimed Rosewood Mayakoba for a special collaboration\, bringing the spirit of Mexico&rsquo\;s Riviera Maya to Los Angeles. Join us for this limited engagement and experience the intersection of two world-class hospitality destinations.</p>\n\n<p style="text-align:center">Friday\, May 8 | Saturday\, May 9<br />\n<a href="https://www.sevenrooms.com/experiences/mareabeverlyhills/rosewood-mayakoba-at-marea-beverly-hills-4506925971324928">Reservations</a></p>\n
LOCATION:430 N Camden Dr\, Beverly Hills\, CA 90210
UID:e.1702.30596
SEQUENCE:3
DTSTAMP:20260421T123439Z
URL:https://members.beverlyhillschamber.com/events/details/a-two-night-culinary-collaboration-rosewood-mayakoba-at-marea-beverly-hills-30596
END:VEVENT

END:VCALENDAR
