BEGIN:VCALENDAR
VERSION:2.0
PRODID:-//ChamberMaster//Event Calendar 2.0//EN
METHOD:PUBLISH
X-PUBLISHED-TTL:P3D
REFRESH-INTERVAL:P3D
CALSCALE:GREGORIAN
BEGIN:VEVENT
DTSTART:20090528T010000Z
DTEND:20090528T033000Z
X-MICROSOFT-CDO-ALLDAYEVENT:FALSE
SUMMARY:Assil Eye Institute & Lakers Game 5
DESCRIPTION:In coordination with the Business After Dark hosted by Assil Eye Institute: \n    \n    \n\n\n    \n     \n    \n\n\n    Come and grab something to eat and drink on the 3rd floor of the Assil Eye Institute and proceed to the 6th floor to watch the Championship winning Los Angeles Lakers take on the Denver Nuggets for game 5 of the Western Conference Finals! \n    \n    \n\n\n    \n     \n    \n\n\n    Donations toward the The Assil Sight Fund are greatly appreciated.
X-ALT-DESC;FMTTYPE=text/html:<p class="MsoNormal" style="MARGIN: 0in 0in 0pt">\n    <span style="COLOR: #707070\; FONT-FAMILY: Georgia\; mso-bidi-font-weight: bold"><?xml:namespace prefix = o ns = "urn:schemas-microsoft-com:office:office" />In coordination with the Business After Dark hosted by Assil Eye Institute: \n    <o:p></o:p>\n    </span>\n</p>\n<p class="MsoNormal" style="MARGIN: 0in 0in 0pt">\n    <span style="COLOR: #707070\; FONT-FAMILY: Georgia\; mso-bidi-font-weight: bold">\n    <o:p>&nbsp\;</o:p>\n    </span>\n</p>\n<p class="MsoNormal" style="MARGIN: 0in 0in 0pt">\n    <span style="COLOR: #707070\; FONT-FAMILY: Georgia\; mso-bidi-font-weight: bold">Come and grab something to eat and drink on the 3<sup>rd</sup> floor of the Assil Eye Institute and proceed to the 6<sup>th</sup> floor to watch the Championship winning Los Angeles Lakers take on the Denver Nuggets for game 5 of the Western Conference Finals! \n    <o:p></o:p>\n    </span>\n</p>\n<p class="MsoNormal" style="MARGIN: 0in 0in 0pt">\n    <span style="COLOR: #707070\; FONT-FAMILY: Georgia\; mso-bidi-font-weight: bold">\n    <o:p>&nbsp\;</o:p>\n    </span>\n</p>\n<p class="MsoNormal" style="MARGIN: 0in 0in 0pt">\n    <span style="COLOR: #707070\; FONT-FAMILY: Georgia\; mso-bidi-font-weight: bold">Donations toward the The Assil Sight Fund are greatly appreciated. \n    <o:p></o:p>\n    </span>\n</p>\n<p>\n    &nbsp\;\n</p>
LOCATION:
UID:e.1702.197
SEQUENCE:3
DTSTAMP:20260422T083436Z
URL:https://members.beverlyhillschamber.com/events/details/assil-eye-institute-lakers-game-5-05-27-2009-197
END:VEVENT

END:VCALENDAR
