BEGIN:VCALENDAR
VERSION:2.0
PRODID:-//ChamberMaster//Event Calendar 2.0//EN
METHOD:PUBLISH
X-PUBLISHED-TTL:P3D
REFRESH-INTERVAL:P3D
CALSCALE:GREGORIAN
BEGIN:VEVENT
DTSTART:20090712T050000Z
DTEND:20090711T190000Z
X-MICROSOFT-CDO-ALLDAYEVENT:FALSE
SUMMARY:Beverly Hills Bar Association-Roxbury Park Free Legal Clinic
DESCRIPTION:Free Legal Aid provided by Beverly Hills Bar Association- Barristers.
X-ALT-DESC;FMTTYPE=text/html:Free Legal Aid provided by Beverly Hills Bar Association- Barristers.
LOCATION:471 S Roxbury Dr\, Beverly Hills\, CA?
UID:e.1702.205
SEQUENCE:3
DTSTAMP:20260422T053337Z
URL:https://members.beverlyhillschamber.com/events/details/beverly-hills-bar-association-roxbury-park-free-legal-clinic-07-11-2009-205
END:VEVENT

END:VCALENDAR
