BEGIN:VCALENDAR
VERSION:2.0
PRODID:-//ChamberMaster//Event Calendar 2.0//EN
METHOD:PUBLISH
X-PUBLISHED-TTL:P3D
REFRESH-INTERVAL:P3D
CALSCALE:GREGORIAN
BEGIN:VEVENT
DTSTART:20061213T013000Z
DTEND:20061213T033000Z
X-MICROSOFT-CDO-ALLDAYEVENT:FALSE
SUMMARY:Board Holiday Party
DESCRIPTION:Board Holiday Party
X-ALT-DESC;FMTTYPE=text/html:Board Holiday Party
LOCATION:
UID:e.1702.68
SEQUENCE:3
DTSTAMP:20260424T041235Z
URL:https://members.beverlyhillschamber.com/events/details/board-holiday-party-12-12-2006-68
END:VEVENT

END:VCALENDAR
