BEGIN:VCALENDAR
VERSION:2.0
PRODID:-//ChamberMaster//Event Calendar 2.0//EN
METHOD:PUBLISH
X-PUBLISHED-TTL:P3D
REFRESH-INTERVAL:P3D
CALSCALE:GREGORIAN
BEGIN:VEVENT
DTSTART:20081205T020000Z
DTEND:20081205T040000Z
X-MICROSOFT-CDO-ALLDAYEVENT:FALSE
SUMMARY:EU Ambassador John Bruton
DESCRIPTION:Please join Global Green Partners and the Beverly Hills Forum for an evening with John Bruton\, the Ambassador to the United States from the European Union.  While he was Prime Minister of Ireland\, the ''Celtic Tiger'' peaked in productivity.  As an Ambassador from the EU\, Mr. Bruton can offer valuable insight into European and American trade under the new administration.  Please join us for the lecture held at Beverly Hills City Hall\, December 4\, 2008 at 7:00 pm. Refreshments will be served at 6:00 for a short meet-and-greet with the Ambassador.  We look forward to seeing you there.
X-ALT-DESC;FMTTYPE=text/html:Please join Global Green Partners and the Beverly Hills Forum for an evening with John Bruton\, the Ambassador to the United States from the European Union.  While he was Prime Minister of Ireland\, the ''Celtic Tiger'' peaked in productivity.  As an Ambassador from the EU\, Mr. Bruton can offer valuable insight into European and American trade under the new administration.  Please join us for the lecture held at Beverly Hills City Hall\, December 4\, 2008 at 7:00 pm. Refreshments will be served at 6:00 for a short meet-and-greet with the Ambassador.  We look forward to seeing you there. 
LOCATION:Beverly Hills City Hall\, Council Chambers
UID:e.1702.118
SEQUENCE:3
DTSTAMP:20260422T153446Z
URL:https://members.beverlyhillschamber.com/events/details/eu-ambassador-john-bruton-12-04-2008-118
END:VEVENT

END:VCALENDAR
