BEGIN:VCALENDAR
VERSION:2.0
PRODID:-//ChamberMaster//Event Calendar 2.0//EN
METHOD:PUBLISH
X-PUBLISHED-TTL:P3D
REFRESH-INTERVAL:P3D
CALSCALE:GREGORIAN
BEGIN:VEVENT
DTSTART:20080828T000000Z
DTEND:20080828T020000Z
X-MICROSOFT-CDO-ALLDAYEVENT:FALSE
SUMMARY:Evening with the Mayor 2008
DESCRIPTION:Evening with the Mayor 2008
X-ALT-DESC;FMTTYPE=text/html:Evening with the Mayor 2008
LOCATION:
UID:e.1702.84
SEQUENCE:3
DTSTAMP:20260422T215044Z
URL:https://members.beverlyhillschamber.com/events/details/evening-with-the-mayor-2008-08-27-2008-84
END:VEVENT

END:VCALENDAR
