BEGIN:VCALENDAR
VERSION:2.0
PRODID:-//ChamberMaster//Event Calendar 2.0//EN
METHOD:PUBLISH
X-PUBLISHED-TTL:P3D
REFRESH-INTERVAL:P3D
CALSCALE:GREGORIAN
BEGIN:VEVENT
DTSTART:20191115T000000Z
DTEND:20191115T010000Z
X-MICROSOFT-CDO-ALLDAYEVENT:FALSE
SUMMARY:Government Affairs Committee Meeting
DESCRIPTION:Please come out for our November Government Affairs Committee meeting where we will be discussing a fresh slate of interesting issues!\n\n\n\nAssembly Bill 5 recently passed the California legislature and will have a major impact on employers of all types in California.\n\n\n\nThe bill dramatically redefines the test for determining whether a person is an employee vs. independent contractor.  Please join us for presentation on what will be a critical issue for your business and the business community in the years to come.  Employment law expert Kelly Scott of Ervin Cohen & Jessup will be on hand to provide a presentation on the law's impact\, answer questions and engage in a discussion of this groundbreaking law.\n\n\n\nThe 2019 California legislative session has wrapped up.  We will discuss the latest news on potential laws that impact your business. We will also have additional updates on local\, state and federal issues.  \n\n\n\nThis meeting will be an excellent opportunity to interact with key officials and learn about the important issues impacting our City and region and to provide your input!  Please join us!
X-ALT-DESC;FMTTYPE=text/html:<span style="color: rgb(0\, 0\, 0)\;"><span style="font-family: verdana\; font-size: 14px\;">Please come out for our November Government Affairs Committee meeting where we will be discussing a fresh slate of interesting issues!</span></span><br style="font-family: verdana\; font-size: 14px\;" />\n<br />\n<span style="color: rgb(0\, 0\, 0)\;"><span style="font-family: verdana\; font-size: 14px\;">Assembly Bill 5 recently passed the California legislature and will have a major impact on employers of all types in California.<br />\n<br />\nThe bill dramatically redefines the test for determining whether a person is an employee vs. independent contractor.&nbsp\; Please join us for presentation on what will be a critical issue for your business and the business community in the years to come.&nbsp\; Employment law expert Kelly Scott of Ervin Cohen &amp\; Jessup will be on hand to provide a presentation on the law&#39\;s impact\, answer questions and engage in a discussion of this groundbreaking law.<br />\n<br />\nThe 2019 California legislative session has wrapped up.&nbsp\;&nbsp\;We will discuss the latest news on potential laws that impact your business.&nbsp\;We will also have additional updates on local\, state and federal issues.&nbsp\;&nbsp\;</span><br style="font-family: verdana\; font-size: 14px\;" />\n<br style="font-family: verdana\; font-size: 14px\;" />\n<span style="font-family: verdana\; font-size: 14px\;">This meeting will be an excellent opportunity to interact with key officials and learn about the important issues impacting&nbsp\;our City and region and to provide your input!&nbsp\;&nbsp\;Please join us!</span></span>
LOCATION:Chamber Boardroom\, 9400 S. Santa Monica Blvd. (@Canon)\, 2nd Floor Two hours of free parking is provided in the Beverly-Canon City parking lot in between Beverly and Canon (in between S. Santa Monica and Brighton Way north-to-south). You may enter off of either Beverly or Canon.
UID:e.1702.3860
SEQUENCE:3
DTSTAMP:20260425T202837Z
URL:https://members.beverlyhillschamber.com/events/details/government-affairs-committee-meeting-11-21-2019-3860
END:VEVENT

END:VCALENDAR
