BEGIN:VCALENDAR
VERSION:2.0
PRODID:-//ChamberMaster//Event Calendar 2.0//EN
METHOD:PUBLISH
X-PUBLISHED-TTL:P3D
REFRESH-INTERVAL:P3D
CALSCALE:GREGORIAN
BEGIN:VEVENT
DTSTART:20081217T190000Z
DTEND:20081218T030000Z
X-MICROSOFT-CDO-ALLDAYEVENT:FALSE
SUMMARY:Holiday Rejuvenation Open House
DESCRIPTION:We are offering gift bags worth hundreds of dollars to the first 150 visitors!  Specials\, information and discounts included in gift bags!  Drawings for over $400 in various rejuvenation services!  Snacks and refreshments served!\nThis event features the finest in Aesthestic Medicine (laser therapy\, Botox\, Restylane\, and cutting edge anti-aging techonologies) and the best of Acupuncture and Holistic Medicine.\nTo learn more about us\, please stop by or go to our websites:  www.AcupunctureofBeverlyHills.com and www.SouthMainRejuvenation.com
X-ALT-DESC;FMTTYPE=text/html:We are offering gift bags worth hundreds of dollars to the first 150 visitors!  Specials\, information and discounts included in gift bags!  Drawings for over $400 in various rejuvenation services!  Snacks and refreshments served!\nThis event features the finest in Aesthestic Medicine (laser therapy\, Botox\, Restylane\, and cutting edge anti-aging techonologies) and the best of Acupuncture and Holistic Medicine.\nTo learn more about us\, please stop by or go to our websites:  www.AcupunctureofBeverlyHills.com and www.SouthMainRejuvenation.com\n\n
LOCATION:300 S. Bevelry Dr. #108\, Beverly Hills\, CA 90212
UID:e.1702.122
SEQUENCE:3
DTSTAMP:20260422T153738Z
URL:https://members.beverlyhillschamber.com/events/details/holiday-rejuvenation-open-house-12-17-2008-122
END:VEVENT

END:VCALENDAR
