BEGIN:VCALENDAR
VERSION:2.0
PRODID:-//ChamberMaster//Event Calendar 2.0//EN
METHOD:PUBLISH
X-PUBLISHED-TTL:P3D
REFRESH-INTERVAL:P3D
CALSCALE:GREGORIAN
BEGIN:VEVENT
DTSTART:20081205T030000Z
DTEND:20081205T030000Z
X-MICROSOFT-CDO-ALLDAYEVENT:FALSE
SUMMARY:True Blood – Media as Entertainment Discussion at The Paley Center for Media
DESCRIPTION:Forsaking the suburban world of American Beauty and the mortuary of Six Feet Under\, creator Alan Ball now reveals the presence of vampires in a small Louisiana town\, the setting for his scary and sexy new HBO series\, True Blood.  Ball and his creative team will unveil a new episode of the series that he pitched as "popcorn for smart people."  The discussion begins at 7:00 pm on Thursday\, December 4.  Individual tickets for this event are $15/member and $25/non-member and may be purchased on The Paley Center website at www.paleycenter.org
X-ALT-DESC;FMTTYPE=text/html:Forsaking the suburban world of <i>American Beauty</i> and the mortuary of <i>Six Feet Under</i>\, creator <b>Alan Ball</b> now reveals the presence of vampires in a small Louisiana town\, the setting for his scary and sexy new HBO series\, <i>True Blood</i>.  Ball and his creative team will unveil a new episode of the series that he pitched as "popcorn for smart people."  The discussion begins at 7:00 pm on Thursday\, December 4.  Individual tickets for this event are $15/member and $25/non-member and may be purchased on The Paley Center website at <a href="http://www.paleycenter.org" target="_blank">www.paleycenter.org</a>
LOCATION:
UID:e.1702.108
SEQUENCE:3
DTSTAMP:20260422T153927Z
URL:https://members.beverlyhillschamber.com/events/details/i-true-blood-i-media-as-entertainment-discussion-at-the-paley-center-for-media-12-04-2008-108
END:VEVENT

END:VCALENDAR
