BEGIN:VCALENDAR
VERSION:2.0
PRODID:-//ChamberMaster//Event Calendar 2.0//EN
METHOD:PUBLISH
X-PUBLISHED-TTL:P3D
REFRESH-INTERVAL:P3D
CALSCALE:GREGORIAN
BEGIN:VEVENT
DTSTART:20090121T023000Z
DTEND:20090121T043000Z
X-MICROSOFT-CDO-ALLDAYEVENT:FALSE
SUMMARY:LASIK & LAKERS PRIVATE RECEPTION
DESCRIPTION:As the official LASIK center of the LAKERS\, we invite you to bring a friend who wears glasses or contact lens to learn more about LASIK and other vision enhancement procedures while mingling with starting center Andrew Bynum\, LAKERS cheerleaders\, and other notable LAKERS personalities.
X-ALT-DESC;FMTTYPE=text/html:As the official LASIK center of the LAKERS\, we invite you to bring a friend who wears glasses or contact lens to learn more about LASIK and other vision enhancement procedures while mingling with starting center Andrew Bynum\, LAKERS cheerleaders\, and other notable LAKERS personalities.
LOCATION:450 N. Roxbury Suite 300 Beverly Hills\, CA 90210
UID:e.1702.142
SEQUENCE:3
DTSTAMP:20260422T140733Z
URL:https://members.beverlyhillschamber.com/events/details/lasik-lakers-private-reception-01-20-2009-142
END:VEVENT

END:VCALENDAR
