BEGIN:VCALENDAR
VERSION:2.0
PRODID:-//ChamberMaster//Event Calendar 2.0//EN
METHOD:PUBLISH
X-PUBLISHED-TTL:P3D
REFRESH-INTERVAL:P3D
CALSCALE:GREGORIAN
BEGIN:VEVENT
DTSTART:20090617T011500Z
DTEND:20090617T023000Z
X-MICROSOFT-CDO-ALLDAYEVENT:FALSE
SUMMARY:Mini-Meditation Series
DESCRIPTION:Mini-Meditation Series\nSimple. Guided. Deep.\n* Excellent for the Beginner to Meditation\n* Gain Clarity\n* Strengthen Intuition\n* Weekly Consistency\n* Grounding\n* Energy Balancing\n* Releasing\n\nYou will be guided how to use Pranyama breathwork to achieve a deep\, safe\, healing meditation.  Connect with your INTUITION to lead you to your best possible actions and decisions.  \nCome weekly to develop your practice.\n\nDress comfy\, bring a small blanket\, rsvp required.\n\nDATES & TIMES:\nTUESDAYS\n\nJUNE 16th\, 23rd & 30th\n6:15pm - 7:30pm\n\n$25. Packages available
X-ALT-DESC;FMTTYPE=text/html:Mini-Meditation Series\nSimple. Guided. Deep.\n* Excellent for the Beginner to Meditation\n* Gain Clarity\n* Strengthen Intuition\n* Weekly Consistency\n* Grounding\n* Energy Balancing\n* Releasing\n\nYou will be guided how to use Pranyama breathwork to achieve a deep\, safe\, healing meditation.  Connect with your INTUITION to lead you to your best possible actions and decisions.  \nCome weekly to develop your practice.\n\nDress comfy\, bring a small blanket\, rsvp required.\n\nDATES & TIMES:\nTUESDAYS\n\nJUNE 16th\, 23rd & 30th\n6:15pm - 7:30pm\n\n$25. Packages available
LOCATION:In The Beverly Hills Triangle Medical Building
UID:e.1702.200
SEQUENCE:3
DTSTAMP:20260422T070312Z
URL:https://members.beverlyhillschamber.com/events/details/mini-meditation-series-06-16-2009-200
END:VEVENT

END:VCALENDAR
