BEGIN:VCALENDAR
VERSION:2.0
PRODID:-//ChamberMaster//Event Calendar 2.0//EN
METHOD:PUBLISH
X-PUBLISHED-TTL:P3D
REFRESH-INTERVAL:P3D
CALSCALE:GREGORIAN
BEGIN:VEVENT
DTSTART:20060101T160000Z
DTEND:20061201T160000Z
X-MICROSOFT-CDO-ALLDAYEVENT:FALSE
SUMMARY:Networking Passport 2006
DESCRIPTION:Networking Passport 2006
X-ALT-DESC;FMTTYPE=text/html:Networking Passport 2006
LOCATION:
UID:e.1702.59
SEQUENCE:3
DTSTAMP:20260424T052539Z
URL:https://members.beverlyhillschamber.com/events/details/networking-passport-2006-01-01-2006-59
END:VEVENT

END:VCALENDAR
