BEGIN:VCALENDAR
VERSION:2.0
PRODID:-//ChamberMaster//Event Calendar 2.0//EN
METHOD:PUBLISH
X-PUBLISHED-TTL:P3D
REFRESH-INTERVAL:P3D
CALSCALE:GREGORIAN
BEGIN:VEVENT
DTSTART:20080505T150000Z
DTEND:20080519T050000Z
X-MICROSOFT-CDO-ALLDAYEVENT:FALSE
SUMMARY:Online Auction
DESCRIPTION:Online Auction
X-ALT-DESC;FMTTYPE=text/html:Online Auction
LOCATION:
UID:e.1702.82
SEQUENCE:3
DTSTAMP:20260423T023009Z
URL:https://members.beverlyhillschamber.com/events/details/online-auction-05-05-2008-82
END:VEVENT

END:VCALENDAR
