BEGIN:VCALENDAR
VERSION:2.0
PRODID:-//ChamberMaster//Event Calendar 2.0//EN
METHOD:PUBLISH
X-PUBLISHED-TTL:P3D
REFRESH-INTERVAL:P3D
CALSCALE:GREGORIAN
BEGIN:VEVENT
DTSTART:20260308T134000Z
DTEND:20260308T230000Z
X-MICROSOFT-CDO-ALLDAYEVENT:FALSE
SUMMARY:Run with purpose at the LA Marathon! Join Team Vision Warriors!
DESCRIPTION:Start the year off with a major achievement by participating in the Los Angeles Marathon as part of Team Vision Warriors while raising funds for sight-saving research. The Foundation Fighting Blindness is proud to be an official Charity Partner for the 2026 Los Angeles Marathon and we can't wait to see our Vision Warrior team out on the course!\n\n \n\nRace Date: Sunday\, March 8\, 2026\n\nLocation: Los Angeles\, CA\n\nCharity Bibs: Limited and going fast!\n\n \n\nAs part of the team\, you'll get:\n\n\n	Guaranteed race entry with a charity bib\n	A personal fundraising page and support\n	Team training tips and community updates\n	Exclusive Foundation Fighting Blindness race swag\n	A meaningful way to create impact through your effort and determination\n\n\n \n\nTake the first step today and secure your charity bib now!
X-ALT-DESC;FMTTYPE=text/html:<p>Start the year off with a major achievement by participating in the Los Angeles Marathon as part of Team Vision Warriors while raising funds for sight-saving research. The Foundation Fighting Blindness is proud to be an official Charity Partner for the 2026 Los Angeles Marathon and we can&#39\;t wait to see our Vision Warrior team out on the course!</p>\n\n<p>&nbsp\;</p>\n\n<p><strong>Race Date:</strong>&nbsp\;Sunday\, March 8\, 2026<br />\n<strong>Location:</strong>&nbsp\;Los Angeles\, CA</p>\n\n<p><strong>Charity Bibs:&nbsp\;</strong>Limited and going fast!</p>\n\n<p>&nbsp\;</p>\n\n<p><strong>As part of the team\, you&#39\;ll get:</strong></p>\n\n<ul>\n	<li>Guaranteed race entry with a charity bib</li>\n	<li>A personal fundraising page and support</li>\n	<li>Team training tips and community updates</li>\n	<li>Exclusive Foundation Fighting Blindness race swag</li>\n	<li>A meaningful way to create impact through your effort and determination</li>\n</ul>\n\n<p>&nbsp\;</p>\n\n<p>Take the first step today and secure your charity bib now!</p>\n
LOCATION:Dodgers Stadium 871 Figueroa Terrace Los Angeles\, CA 90012
UID:e.1702.30159
SEQUENCE:3
DTSTAMP:20260420T095144Z
URL:https://members.beverlyhillschamber.com/events/details/run-with-purpose-at-the-la-marathon-join-team-vision-warriors-30159
END:VEVENT

END:VCALENDAR
