BEGIN:VCALENDAR
VERSION:2.0
PRODID:-//ChamberMaster//Event Calendar 2.0//EN
METHOD:PUBLISH
X-PUBLISHED-TTL:P3D
REFRESH-INTERVAL:P3D
CALSCALE:GREGORIAN
BEGIN:VEVENT
DTSTART:20260423T010000Z
DTEND:20260423T030000Z
X-MICROSOFT-CDO-ALLDAYEVENT:FALSE
SUMMARY:The Art of Sustainable Blooms
DESCRIPTION:In celebration of Earth Day\, this hands-on workshop focuses on sustainable and earth friendly floral design. Using seasonal blooms\, recycled vessels and eco-conscious practices\, you'll learn how to create stunning arrangements that are both gorgeous and gentle on the Earth.\n\n\n\nYour Ticket Includes:\n\n\n	All florals\, tools\, and arranging materials \n	A guided hands-on experience\n	A selection of snacks and beverages\n	A take-home custom floral arrangement\n	A fun\, unique boutique atmosphere\n\nThroughout the workshop\, we'll explore methods of zero-waste arranging with reusable materials. Guided step-by-step with our experienced florist\, you'll craft a bouquet that delights the senses while supporting sustainability.\n\n\n\nUse discount code BHChamber2026 for 10% off
X-ALT-DESC;FMTTYPE=text/html:<p><!-- x-tinymce/html --><span style="font-size:14px">In celebration of Earth Day\, this hands-on workshop focuses on sustainable and earth friendly floral design. Using seasonal blooms\, recycled vessels and eco-conscious practices\, you&rsquo\;ll learn how to create stunning arrangements that are both gorgeous and gentle on the Earth.</span><br />\n<!-- x-tinymce/html --></p>\n\n<p><span style="font-size:14px">Your Ticket Includes:</span></p>\n\n<ul>\n	<li><span style="font-size:14px">All florals\, tools\, and arranging materials&nbsp\;</span></li>\n	<li><span style="font-size:14px">A guided hands-on experience</span></li>\n	<li><span style="font-size:14px">A selection of snacks and beverages</span></li>\n	<li><span style="font-size:14px">A take-home custom floral arrangement</span></li>\n	<li><span style="font-size:14px">A fun\, unique boutique atmosphere</span></li>\n</ul>\n<span style="font-size:14px"><!-- x-tinymce/html -->Throughout the workshop\, we&rsquo\;ll explore methods of zero-waste arranging with reusable materials. Guided step-by-step with our experienced florist\, you&rsquo\;ll craft a bouquet that delights the senses while supporting sustainability.<br />\n<br />\nUse discount code&nbsp\;</span><strong>BHChamber2026</strong><span style="font-size:14px">&nbsp\;for 10% off</span>
LOCATION:Bloom Boom 620 N La Cienega Blvd.\, West Hollywood CA 90069
UID:e.1702.30151
SEQUENCE:3
DTSTAMP:20260420T095230Z
URL:https://members.beverlyhillschamber.com/events/details/the-art-of-sustainable-blooms-30151
END:VEVENT

END:VCALENDAR
