BEGIN:VCALENDAR
VERSION:2.0
PRODID:-//ChamberMaster//Event Calendar 2.0//EN
METHOD:PUBLISH
X-PUBLISHED-TTL:P3D
REFRESH-INTERVAL:P3D
CALSCALE:GREGORIAN
BEGIN:VEVENT
DTSTART:20260528T030000Z
DTEND:20260528T050000Z
X-MICROSOFT-CDO-ALLDAYEVENT:FALSE
SUMMARY:The Nest presents: Comedy Speakeasy- An Exploration of Laughter
DESCRIPTION:Comedy Speakeasy - An Exploration of Laughter\n\n\nAbout the Event: \n\nEvery month\, a new line up of incredible female comedic talent hosted by Serafina Costanza! Comedians featured on Netflix\, HBO\, Comedy Central\, Laugh Factory and The Comedy Store. \n\n\n\n\n\nAbout The Nest: \n\nThere is no other theater company quite like The Nest in Los Angeles. Not only do we produce theater productions\, we host classes\, workshops and artistically diverse events weekly at our home base in Beverly Hills\, showcasing theater\, music\, poetry\, comedy and visual art. Our budding outreach programming provides theater education and performance opportunities to the elderly\, blind and disabled communities throughout Los Angeles. The Nest was hatched from humble beginnings as a play reading circle called "Noisy Nest"\, founded by Amanda Bird in 2012. With a desire to further serve the community at large\, Noisy Nest evolved into the home of The Nest\, and is renowned as a safe landing place for wandering artists en-route to discovering the root of their artistic integrity. The Nest is a 501(c)(3) nonprofit\, founded in November 2022 by Amanda Bird and Lynne Mannino. Without funding for legal assistance\, Lynne and Amanda personally navigated and completed the nonprofit formation process a testament to their tenacity and commitment.
X-ALT-DESC;FMTTYPE=text/html:<h1 style="text-align:center">Comedy Speakeasy - An Exploration of Laughter</h1>\n\n<div style="background:transparent\; border:0px\; padding:0px\; text-align:center">\n<p style="text-align:left"><strong>About the Event:&nbsp\;</strong><br />\nEvery month\, a new line up of incredible female comedic talent hosted by Serafina Costanza! Comedians featured on Netflix\, HBO\, Comedy Central\, Laugh Factory and The Comedy Store.&nbsp\;<br />\n<br />\n<br />\n<strong>About The Nest:&nbsp\;</strong><br />\n<span style="background-color:transparent">There is no other theater company quite like The Nest in Los Angeles. Not&nbsp\;</span><span style="background-color:transparent">only do we produce theater productions\, we host classes\, workshops and artistically diverse events&nbsp\;</span><span style="background-color:transparent">weekly at our home base in Beverly Hills\, showcasing theater\, music\, poetry\, comedy and visual&nbsp\;</span><span style="background-color:transparent">art. Our budding outreach programming provides theater education and performance&nbsp\;</span><span style="background-color:transparent">opportunities to the elderly\, blind and disabled communities throughout Los Angeles.&nbsp\;</span><span style="background-color:transparent">The Nest was hatched from humble beginnings as a play reading circle called &ldquo\;Noisy Nest&rdquo\;\,&nbsp\;</span><span style="background-color:transparent">founded by Amanda Bird in 2012. With a desire to further serve the community at large\, Noisy&nbsp\;</span><span style="background-color:transparent">Nest evolved into the home of The Nest\, and is renowned as a safe landing place for wandering&nbsp\;</span><span style="background-color:transparent">artists en-route to discovering the root of their artistic integrity.&nbsp\;</span><span style="background-color:transparent">The Nest is a 501(c)(3) nonprofit\, founded in November 2022 by Amanda Bird and Lynne&nbsp\;</span><span style="background-color:transparent">Mannino. Without funding for legal assistance\, Lynne and Amanda personally navigated and&nbsp\;</span><span style="background-color:transparent">completed the nonprofit formation process&mdash\;a testament to their tenacity and commitment.</span></p>\n\n<p style="text-align:left"><em>&nbsp\;</em></p>\n</div>\n
LOCATION:Noisy Nest 148 South Doheny Dr. Beverly Hills\, 90211
UID:e.1702.30163
SEQUENCE:3
DTSTAMP:20260420T120116Z
URL:https://members.beverlyhillschamber.com/events/details/the-nest-presents-comedy-speakeasy-an-exploration-of-laughter-05-27-2026-30163
END:VEVENT

END:VCALENDAR
