BEGIN:VCALENDAR
VERSION:2.0
PRODID:-//ChamberMaster//Event Calendar 2.0//EN
METHOD:PUBLISH
X-PUBLISHED-TTL:P3D
REFRESH-INTERVAL:P3D
CALSCALE:GREGORIAN
BEGIN:VEVENT
DTSTART:20090402T180000Z
DTEND:20090402T220000Z
X-MICROSOFT-CDO-ALLDAYEVENT:FALSE
SUMMARY:VIP Customer Event
DESCRIPTION:You are invited to attend a VIP Customer Event at the Organic Pharmacy Beverly Hills.  Celebrate in Style Award Winning & Beauty and receive your free gift.  Event features will include a book signing by Margo Marrone\, Organic High Tea\, Champagne and Canapés\, Mini Health & Beauty treatments\, Make-up by Organic Glam\, Private consultations with Margo upon request\, hand and arm massages and goody bag.  We look forward to welcoming you!
X-ALT-DESC;FMTTYPE=text/html:You are invited to attend a VIP Customer Event at the Organic Pharmacy Beverly Hills.  Celebrate in Style Award Winning & Beauty and receive your free gift.  Event features will include a book signing by Margo Marrone\, Organic High Tea\, Champagne and Canapés\, Mini Health & Beauty treatments\, Make-up by Organic Glam\, Private consultations with Margo upon request\, hand and arm massages and goody bag.  We look forward to welcoming you!\n\n
LOCATION:The Organic Pharmacy 453 N. Beverly Drive Beverly Hills\, CA 90210
UID:e.1702.169
SEQUENCE:3
DTSTAMP:20260422T112124Z
URL:https://members.beverlyhillschamber.com/events/details/vip-customer-event-04-02-2009-169
END:VEVENT

END:VCALENDAR
