BEGIN:VCALENDAR
VERSION:2.0
PRODID:-//ChamberMaster//Event Calendar 2.0//EN
METHOD:PUBLISH
X-PUBLISHED-TTL:P3D
REFRESH-INTERVAL:P3D
CALSCALE:GREGORIAN
BEGIN:VEVENT
DTSTART:20090610T010000Z
DTEND:20090610T030000Z
X-MICROSOFT-CDO-ALLDAYEVENT:FALSE
SUMMARY:Workshop Invitation: Staying Afloat After a Disaster: Recovery Planning for Small Businesses
DESCRIPTION:Whether we are talking about the current economic disaster\, pandemics\, or recovery after an earthquake\, \nsmall businesses need to stay open with limited resources and increased demands.  This event is brought to you by the County of Los Angeles.\n\nJoin us for a FREE interactive workshop that will provide –\n•	Experts who will help you complete your own business disaster recovery plan\n•	One-on-one Q&A session with seasoned emergency managers \n•	Recovery plan templates and tools tailored for small businesses\n•	Information on the role of government in disaster - what they are responsible for\, what you can expect from them and what is expected of you  \n•	Opportunities to network with other local small businesses \n\nREGISTRATION \nThere is no charge for this event.  Space is limited.  You must register to attend.\nRegister early to be entered into a door prize drawing!  \n\nRSVP today at www.constantassociates.com/LAB\n\nEVENING AGENDA\nCheck-in at 5:45PM  \nAppetizers and refreshments provided. Cash bar.\n\nTARGET AUDIENCE\n•	Small business owners\, managers and key staff \n•	Representatives from small business networking and business development organizations\n\nPLANNING PARTNERS\nSpecial thanks to our planning partners and sponsors for making this event possible.\n•	Los Angeles County Department of Public Health\n•	U. S. Small Business Administration\n•	Pasadena Public Health Department\n•	Long Beach Department of Health and Human Services\n•	Los Angeles Area Chamber of Commerce\n•	Valley Industry and Commerce Association\n•	Business and Industry Council for Emergency Planning and Preparedness
X-ALT-DESC;FMTTYPE=text/html:Whether we are talking about the current economic disaster\, pandemics\, or recovery after an earthquake\, \nsmall businesses need to stay open with limited resources and increased demands.  This event is brought to you by the County of Los Angeles.\n\nJoin us for a FREE interactive workshop that will provide –\n•	Experts who will help you complete your own business disaster recovery plan\n•	One-on-one Q&A session with seasoned emergency managers \n•	Recovery plan templates and tools tailored for small businesses\n•	Information on the role of government in disaster - what they are responsible for\, what you can expect from them and what is expected of you  \n•	Opportunities to network with other local small businesses \n\nREGISTRATION \nThere is no charge for this event.  Space is limited.  You must register to attend.\nRegister early to be entered into a door prize drawing!  \n\nRSVP today at www.constantassociates.com/LAB\n\nEVENING AGENDA\nCheck-in at 5:45PM  \nAppetizers and refreshments provided. Cash bar.\n\nTARGET AUDIENCE\n•	Small business owners\, managers and key staff \n•	Representatives from small business networking and business development organizations\n\nPLANNING PARTNERS\nSpecial thanks to our planning partners and sponsors for making this event possible.\n•	Los Angeles County Department of Public Health\n•	U. S. Small Business Administration\n•	Pasadena Public Health Department\n•	Long Beach Department of Health and Human Services\n•	Los Angeles Area Chamber of Commerce\n•	Valley Industry and Commerce Association\n•	Business and Industry Council for Emergency Planning and Preparedness\n\n
LOCATION:Double Tree Hotel – Commerce\, 5757 Telegraph Rd\, Commerce\, CA 90040
UID:e.1702.198
SEQUENCE:3
DTSTAMP:20260422T065338Z
URL:https://members.beverlyhillschamber.com/events/details/workshop-invitation-staying-afloat-after-a-disaster-recovery-planning-for-small-businesses-06-09-2009-198
END:VEVENT

END:VCALENDAR
